BEGIN:VCALENDAR
VERSION:2.0
PRODID:-//Smetana - ECPv6.15.17//NONSGML v1.0//EN
CALSCALE:GREGORIAN
METHOD:PUBLISH
X-WR-CALNAME:Smetana
X-ORIGINAL-URL:https://sbor-smetana.cz
X-WR-CALDESC:Akce na Smetana
REFRESH-INTERVAL;VALUE=DURATION:PT1H
X-Robots-Tag:noindex
X-PUBLISHED-TTL:PT1H
BEGIN:VTIMEZONE
TZID:Europe/Prague
BEGIN:DAYLIGHT
TZOFFSETFROM:+0100
TZOFFSETTO:+0200
TZNAME:CEST
DTSTART:20230326T010000
END:DAYLIGHT
BEGIN:STANDARD
TZOFFSETFROM:+0200
TZOFFSETTO:+0100
TZNAME:CET
DTSTART:20231029T010000
END:STANDARD
BEGIN:DAYLIGHT
TZOFFSETFROM:+0100
TZOFFSETTO:+0200
TZNAME:CEST
DTSTART:20240331T010000
END:DAYLIGHT
BEGIN:STANDARD
TZOFFSETFROM:+0200
TZOFFSETTO:+0100
TZNAME:CET
DTSTART:20241027T010000
END:STANDARD
BEGIN:DAYLIGHT
TZOFFSETFROM:+0100
TZOFFSETTO:+0200
TZNAME:CEST
DTSTART:20250330T010000
END:DAYLIGHT
BEGIN:STANDARD
TZOFFSETFROM:+0200
TZOFFSETTO:+0100
TZNAME:CET
DTSTART:20251026T010000
END:STANDARD
END:VTIMEZONE
BEGIN:VEVENT
DTSTART;VALUE=DATE:20240106
DTEND;VALUE=DATE:20240107
DTSTAMP:20260424T122831
CREATED:20240104T073817Z
LAST-MODIFIED:20240104T073851Z
UID:3471-1704499200-1704585599@sbor-smetana.cz
SUMMARY:25. Adventní zpěvy v Praze
DESCRIPTION:Organisation : music&friends ♫ buchmann touristic&cnsulting \nVystoupení sboru SPS SMETANA HK na Staroměstském náměstí\nPřátelský koncert – Freundschaftskonzert\nKoncertní sál HLAHOL\, Masarykovo nábřeží 248/16 110 00 Praha 1 \n6.1.2024 v 17:30 hod.
URL:https://sbor-smetana.cz/udalost/25-adventni-zpevy-v-praze/
LOCATION:Praha\, Staroměstské nám.\, Sál sboru Hlahol
CATEGORIES:Koncert
END:VEVENT
END:VCALENDAR