BEGIN:VCALENDAR
VERSION:2.0
PRODID:-//Smetana - ECPv6.15.17//NONSGML v1.0//EN
CALSCALE:GREGORIAN
METHOD:PUBLISH
X-WR-CALNAME:Smetana
X-ORIGINAL-URL:https://sbor-smetana.cz
X-WR-CALDESC:Akce na Smetana
REFRESH-INTERVAL;VALUE=DURATION:PT1H
X-Robots-Tag:noindex
X-PUBLISHED-TTL:PT1H
BEGIN:VTIMEZONE
TZID:Europe/Prague
BEGIN:DAYLIGHT
TZOFFSETFROM:+0100
TZOFFSETTO:+0200
TZNAME:CEST
DTSTART:20210328T010000
END:DAYLIGHT
BEGIN:STANDARD
TZOFFSETFROM:+0200
TZOFFSETTO:+0100
TZNAME:CET
DTSTART:20211031T010000
END:STANDARD
BEGIN:DAYLIGHT
TZOFFSETFROM:+0100
TZOFFSETTO:+0200
TZNAME:CEST
DTSTART:20220327T010000
END:DAYLIGHT
BEGIN:STANDARD
TZOFFSETFROM:+0200
TZOFFSETTO:+0100
TZNAME:CET
DTSTART:20221030T010000
END:STANDARD
BEGIN:DAYLIGHT
TZOFFSETFROM:+0100
TZOFFSETTO:+0200
TZNAME:CEST
DTSTART:20230326T010000
END:DAYLIGHT
BEGIN:STANDARD
TZOFFSETFROM:+0200
TZOFFSETTO:+0100
TZNAME:CET
DTSTART:20231029T010000
END:STANDARD
END:VTIMEZONE
BEGIN:VEVENT
DTSTART;TZID=Europe/Prague:20221209T190000
DTEND;TZID=Europe/Prague:20221209T210000
DTSTAMP:20260424T155608
CREATED:20230204T060658Z
LAST-MODIFIED:20230204T060857Z
UID:308-1670612400-1670619600@sbor-smetana.cz
SUMMARY:Benefiční koncert pro Nadaci východočeské onkologie
DESCRIPTION:Účinkuje: Smíšený pěvecký sbor SMETANA\, sbormistr Jan Jiráček\nvarhany: Radka Piskačová\, Václav Uhlíř\nkomorní orchestr\nsólisté: Jana Lesná – soprán\, Markéta Štefaniková – alt\, Václav Boštík – tenor\, Michal Medek – bas\nProgram: Šimon Brixi – Magnificat\nJ.J.Ryba – Česká mše vánoční
URL:https://sbor-smetana.cz/udalost/beneficni-koncert-pro-nadaci-vychodoceske-onkologie/
LOCATION:MěHS v Hradci Králové
CATEGORIES:Koncert
ATTACH;FMTTYPE=image/jpeg:https://sbor-smetana.cz/wp-content/uploads/2023/02/MeHS-HK_a.jpg
END:VEVENT
END:VCALENDAR