BEGIN:VCALENDAR
VERSION:2.0
PRODID:-//Smetana - ECPv6.15.17//NONSGML v1.0//EN
CALSCALE:GREGORIAN
METHOD:PUBLISH
X-WR-CALNAME:Smetana
X-ORIGINAL-URL:https://sbor-smetana.cz
X-WR-CALDESC:Akce na Smetana
REFRESH-INTERVAL;VALUE=DURATION:PT1H
X-Robots-Tag:noindex
X-PUBLISHED-TTL:PT1H
BEGIN:VTIMEZONE
TZID:Europe/Prague
BEGIN:DAYLIGHT
TZOFFSETFROM:+0100
TZOFFSETTO:+0200
TZNAME:CEST
DTSTART:20220327T010000
END:DAYLIGHT
BEGIN:STANDARD
TZOFFSETFROM:+0200
TZOFFSETTO:+0100
TZNAME:CET
DTSTART:20221030T010000
END:STANDARD
BEGIN:DAYLIGHT
TZOFFSETFROM:+0100
TZOFFSETTO:+0200
TZNAME:CEST
DTSTART:20230326T010000
END:DAYLIGHT
BEGIN:STANDARD
TZOFFSETFROM:+0200
TZOFFSETTO:+0100
TZNAME:CET
DTSTART:20231029T010000
END:STANDARD
BEGIN:DAYLIGHT
TZOFFSETFROM:+0100
TZOFFSETTO:+0200
TZNAME:CEST
DTSTART:20240331T010000
END:DAYLIGHT
BEGIN:STANDARD
TZOFFSETFROM:+0200
TZOFFSETTO:+0100
TZNAME:CET
DTSTART:20241027T010000
END:STANDARD
END:VTIMEZONE
BEGIN:VEVENT
DTSTART;TZID=Europe/Prague:20230915T190000
DTEND;TZID=Europe/Prague:20230915T210000
DTSTAMP:20260424T155616
CREATED:20230808T065935Z
LAST-MODIFIED:20230813T072137Z
UID:2678-1694804400-1694811600@sbor-smetana.cz
SUMMARY:Benefiční koncert v zámecké kapli ve Smiřicích - 15.9.2023 v 19 hodin
DESCRIPTION:Pořádá charita ve spolupráci s městským kulturním střediskem ve Smiřicích.\nPSP Smetana Hradec Králové\nsbormistr Jan Jiráček\nklavírní doprovod Radka Jiráčková\nvarhany Václav Metoděj Uhlíř\nProgram:  Gloria (Vivaldi)\, Ave Maria (Arcadelt)\nAve verum corpus (Mozart)\nDyby byla kosa (Dvořák)\, Šípek (Dvořák)\nČeská píseň 1.v. (Smetana)\nK Budějicům cesta (Černík)\, Mikulecká dědina (Halma)\nChodila Maryška (Uherek)\, Pod dubem (Tučapský)\nUbi caritas (Gjeilo)\, Sbor Židů – Nabucco (Verdi)\nCanticorum iubilo (Händel)\nAn Irish Blessing (irská)\, The Lord Bless (Rutter)\nProč bychom se netěšili (Smetana)
URL:https://sbor-smetana.cz/udalost/beneficni-koncert-v-zamecke-kapli-ve-smiricich-15-9-2023-v-19-hodin/
LOCATION:Smiřice – Kaple Zjevení Páně
CATEGORIES:Koncert
ATTACH;FMTTYPE=image/jpeg:https://sbor-smetana.cz/wp-content/uploads/2023/08/Beneficni-koncert-plakat-1.jpg
END:VEVENT
END:VCALENDAR