BEGIN:VCALENDAR
VERSION:2.0
PRODID:-//Smetana - ECPv6.15.17//NONSGML v1.0//EN
CALSCALE:GREGORIAN
METHOD:PUBLISH
X-WR-CALNAME:Smetana
X-ORIGINAL-URL:https://sbor-smetana.cz
X-WR-CALDESC:Akce na Smetana
REFRESH-INTERVAL;VALUE=DURATION:PT1H
X-Robots-Tag:noindex
X-PUBLISHED-TTL:PT1H
BEGIN:VTIMEZONE
TZID:Europe/Prague
BEGIN:DAYLIGHT
TZOFFSETFROM:+0100
TZOFFSETTO:+0200
TZNAME:CEST
DTSTART:20240331T010000
END:DAYLIGHT
BEGIN:STANDARD
TZOFFSETFROM:+0200
TZOFFSETTO:+0100
TZNAME:CET
DTSTART:20241027T010000
END:STANDARD
BEGIN:DAYLIGHT
TZOFFSETFROM:+0100
TZOFFSETTO:+0200
TZNAME:CEST
DTSTART:20250330T010000
END:DAYLIGHT
BEGIN:STANDARD
TZOFFSETFROM:+0200
TZOFFSETTO:+0100
TZNAME:CET
DTSTART:20251026T010000
END:STANDARD
BEGIN:DAYLIGHT
TZOFFSETFROM:+0100
TZOFFSETTO:+0200
TZNAME:CEST
DTSTART:20260329T010000
END:DAYLIGHT
BEGIN:STANDARD
TZOFFSETFROM:+0200
TZOFFSETTO:+0100
TZNAME:CET
DTSTART:20261025T010000
END:STANDARD
END:VTIMEZONE
BEGIN:VEVENT
DTSTART;TZID=Europe/Prague:20250403T180000
DTEND;TZID=Europe/Prague:20250403T193000
DTSTAMP:20260424T122216
CREATED:20250204T095513Z
LAST-MODIFIED:20250227T164220Z
UID:4914-1743703200-1743708600@sbor-smetana.cz
SUMMARY:Benefiční koncert ve Sboru kněze Ambrože - 3. dubna 2025 v 18 hodin
DESCRIPTION:Datum konání: čtvrtek 3.dubna 2025 v 18 hodin  Sbor kněze Ambrože v HK \nBenefiční koncert a připomenutí 800 let od založení města Hradce Králové \npořádají: SPS Smetana a Centrum duševního zdraví HK – Věkoše \núčinkují. SPS Smetana\,  sbormistr Jan Jiráček\, klavír Radka Jiráčková \n                Centrum band\,  sbormistr Jindřiška Bukovská
URL:https://sbor-smetana.cz/udalost/beneficni-koncert-ve-sboru-kneze-ambroze-3-dubna-2025-v-18-hodin/
LOCATION:Sbor kněze Ambrože v HK
CATEGORIES:Koncert
ATTACH;FMTTYPE=application/pdf:https://sbor-smetana.cz/wp-content/uploads/2025/02/SMISENY-PEVECKY-SBOR-SMETANA-A-CENTRUM-PRO-INTEGRACI-OSOB-SE-ZDRAVOTNIM-POSTIZENIM.pdf
END:VEVENT
END:VCALENDAR