BEGIN:VCALENDAR
VERSION:2.0
PRODID:-//Smetana - ECPv6.15.17//NONSGML v1.0//EN
CALSCALE:GREGORIAN
METHOD:PUBLISH
X-WR-CALNAME:Smetana
X-ORIGINAL-URL:https://sbor-smetana.cz
X-WR-CALDESC:Akce na Smetana
REFRESH-INTERVAL;VALUE=DURATION:PT1H
X-Robots-Tag:noindex
X-PUBLISHED-TTL:PT1H
BEGIN:VTIMEZONE
TZID:Europe/Prague
BEGIN:DAYLIGHT
TZOFFSETFROM:+0100
TZOFFSETTO:+0200
TZNAME:CEST
DTSTART:20240331T010000
END:DAYLIGHT
BEGIN:STANDARD
TZOFFSETFROM:+0200
TZOFFSETTO:+0100
TZNAME:CET
DTSTART:20241027T010000
END:STANDARD
BEGIN:DAYLIGHT
TZOFFSETFROM:+0100
TZOFFSETTO:+0200
TZNAME:CEST
DTSTART:20250330T010000
END:DAYLIGHT
BEGIN:STANDARD
TZOFFSETFROM:+0200
TZOFFSETTO:+0100
TZNAME:CET
DTSTART:20251026T010000
END:STANDARD
BEGIN:DAYLIGHT
TZOFFSETFROM:+0100
TZOFFSETTO:+0200
TZNAME:CEST
DTSTART:20260329T010000
END:DAYLIGHT
BEGIN:STANDARD
TZOFFSETFROM:+0200
TZOFFSETTO:+0100
TZNAME:CET
DTSTART:20261025T010000
END:STANDARD
END:VTIMEZONE
BEGIN:VEVENT
DTSTART;TZID=Europe/Prague:20251213T170000
DTEND;TZID=Europe/Prague:20251213T183000
DTSTAMP:20260424T105014
CREATED:20250710T150049Z
LAST-MODIFIED:20251127T113847Z
UID:5122-1765645200-1765650600@sbor-smetana.cz
SUMMARY:Koncert 13.12.2025\, 17:00\, Kostel Nejsvětější Trojice - Kuks
DESCRIPTION:Účinkují: Smíšený pěvecký sbor Smetana Hradec Králové (sbm. Jan Jiráček)\, varhany – Václav Uhlíř\nsólisté: Jana Lesná – soprán\, Markéta Štefaniková – alt\, Milan Motl – tenor\, Jan Jiráček – bas\nNa programu Česká mše vánoční J. J. Ryby.\nVstupenky v prodeji ve Vinotéce u sv.Mikuláše\, náměstí ČSA 60\, Jaroměř\,\nrezervace na mailu eva.cepickova@post.cz \nLeták na Vánoční koncert Kuks 13.12.2025
URL:https://sbor-smetana.cz/udalost/koncert-13-12-2025-1700-kostel-nejsvetejsi-trojice-kuks/
LOCATION:Kaple – KUKS
CATEGORIES:Koncert
ATTACH;FMTTYPE=image/jpeg:https://sbor-smetana.cz/wp-content/uploads/2024/01/Kuks-kaple.jpg
END:VEVENT
END:VCALENDAR