BEGIN:VCALENDAR
VERSION:2.0
PRODID:-//Smetana - ECPv6.15.17//NONSGML v1.0//EN
CALSCALE:GREGORIAN
METHOD:PUBLISH
X-WR-CALNAME:Smetana
X-ORIGINAL-URL:https://sbor-smetana.cz
X-WR-CALDESC:Akce na Smetana
REFRESH-INTERVAL;VALUE=DURATION:PT1H
X-Robots-Tag:noindex
X-PUBLISHED-TTL:PT1H
BEGIN:VTIMEZONE
TZID:Europe/Prague
BEGIN:DAYLIGHT
TZOFFSETFROM:+0100
TZOFFSETTO:+0200
TZNAME:CEST
DTSTART:20220327T010000
END:DAYLIGHT
BEGIN:STANDARD
TZOFFSETFROM:+0200
TZOFFSETTO:+0100
TZNAME:CET
DTSTART:20221030T010000
END:STANDARD
BEGIN:DAYLIGHT
TZOFFSETFROM:+0100
TZOFFSETTO:+0200
TZNAME:CEST
DTSTART:20230326T010000
END:DAYLIGHT
BEGIN:STANDARD
TZOFFSETFROM:+0200
TZOFFSETTO:+0100
TZNAME:CET
DTSTART:20231029T010000
END:STANDARD
BEGIN:DAYLIGHT
TZOFFSETFROM:+0100
TZOFFSETTO:+0200
TZNAME:CEST
DTSTART:20240331T010000
END:DAYLIGHT
BEGIN:STANDARD
TZOFFSETFROM:+0200
TZOFFSETTO:+0100
TZNAME:CET
DTSTART:20241027T010000
END:STANDARD
END:VTIMEZONE
BEGIN:VEVENT
DTSTART;TZID=Europe/Prague:20231220T180000
DTEND;TZID=Europe/Prague:20231220T190000
DTSTAMP:20260424T124936
CREATED:20230808T110017Z
LAST-MODIFIED:20231217T095513Z
UID:2704-1703095200-1703098800@sbor-smetana.cz
SUMMARY:Koncert Evangelický kostel v HK - 20.12.2023 18 hodin
DESCRIPTION:Česká mše vánoční „Hej mistře!“ Jakuba Jana Ryby\nSPS Smetana Hradec Králové\, sbm. Jan Jiráček\nKrálovéhradecký komorní orchestr\, dir. Petr Strejc\na sólisté
URL:https://sbor-smetana.cz/udalost/koncert-evangelicky-kostel-v-hk-20-12-2023-asi-19-hodin/
LOCATION:HK – Evangelický kostel
CATEGORIES:Koncert
ATTACH;FMTTYPE=image/jpeg:https://sbor-smetana.cz/wp-content/uploads/2023/08/HK_Evangelicky-kostel_1.jpg
END:VEVENT
END:VCALENDAR