BEGIN:VCALENDAR
VERSION:2.0
PRODID:-//Smetana - ECPv6.15.17//NONSGML v1.0//EN
CALSCALE:GREGORIAN
METHOD:PUBLISH
X-WR-CALNAME:Smetana
X-ORIGINAL-URL:https://sbor-smetana.cz
X-WR-CALDESC:Akce na Smetana
REFRESH-INTERVAL;VALUE=DURATION:PT1H
X-Robots-Tag:noindex
X-PUBLISHED-TTL:PT1H
BEGIN:VTIMEZONE
TZID:Europe/Prague
BEGIN:DAYLIGHT
TZOFFSETFROM:+0100
TZOFFSETTO:+0200
TZNAME:CEST
DTSTART:20220327T010000
END:DAYLIGHT
BEGIN:STANDARD
TZOFFSETFROM:+0200
TZOFFSETTO:+0100
TZNAME:CET
DTSTART:20221030T010000
END:STANDARD
BEGIN:DAYLIGHT
TZOFFSETFROM:+0100
TZOFFSETTO:+0200
TZNAME:CEST
DTSTART:20230326T010000
END:DAYLIGHT
BEGIN:STANDARD
TZOFFSETFROM:+0200
TZOFFSETTO:+0100
TZNAME:CET
DTSTART:20231029T010000
END:STANDARD
BEGIN:DAYLIGHT
TZOFFSETFROM:+0100
TZOFFSETTO:+0200
TZNAME:CEST
DTSTART:20240331T010000
END:DAYLIGHT
BEGIN:STANDARD
TZOFFSETFROM:+0200
TZOFFSETTO:+0100
TZNAME:CET
DTSTART:20241027T010000
END:STANDARD
END:VTIMEZONE
BEGIN:VEVENT
DTSTART;TZID=Europe/Prague:20231216T170000
DTEND;TZID=Europe/Prague:20231216T183000
DTSTAMP:20260424T142957
CREATED:20230808T102019Z
LAST-MODIFIED:20231128T064235Z
UID:2700-1702746000-1702751400@sbor-smetana.cz
SUMMARY:Koncert Kuks kostel Nejsvětější Trojice -16.12.2023 v 17 hodin
DESCRIPTION:Česká mše vánoční „Hej mistře!“ Jakuba Jana Ryby\nSPS Smetana Hradec Králové\, sbm. Petr Semerák\nSóla: Hana Martínková (soprán)\, Markéta Štefaniková (alt)\, Marek Hergovits (tenor)\, Leoš Bílek (bas)\nvarhany: Václav Uhlíř
URL:https://sbor-smetana.cz/udalost/koncert-kuks-16-12-2023-v-17-hodin/
LOCATION:Kaple – KUKS
CATEGORIES:Koncert
ATTACH;FMTTYPE=image/jpeg:https://sbor-smetana.cz/wp-content/uploads/2023/08/Kuks-kaple.jpg
END:VEVENT
END:VCALENDAR