BEGIN:VCALENDAR
VERSION:2.0
PRODID:-//Smetana - ECPv6.15.17//NONSGML v1.0//EN
CALSCALE:GREGORIAN
METHOD:PUBLISH
X-WR-CALNAME:Smetana
X-ORIGINAL-URL:https://sbor-smetana.cz
X-WR-CALDESC:Akce na Smetana
REFRESH-INTERVAL;VALUE=DURATION:PT1H
X-Robots-Tag:noindex
X-PUBLISHED-TTL:PT1H
BEGIN:VTIMEZONE
TZID:Europe/Prague
BEGIN:DAYLIGHT
TZOFFSETFROM:+0100
TZOFFSETTO:+0200
TZNAME:CEST
DTSTART:20220327T010000
END:DAYLIGHT
BEGIN:STANDARD
TZOFFSETFROM:+0200
TZOFFSETTO:+0100
TZNAME:CET
DTSTART:20221030T010000
END:STANDARD
BEGIN:DAYLIGHT
TZOFFSETFROM:+0100
TZOFFSETTO:+0200
TZNAME:CEST
DTSTART:20230326T010000
END:DAYLIGHT
BEGIN:STANDARD
TZOFFSETFROM:+0200
TZOFFSETTO:+0100
TZNAME:CET
DTSTART:20231029T010000
END:STANDARD
BEGIN:DAYLIGHT
TZOFFSETFROM:+0100
TZOFFSETTO:+0200
TZNAME:CEST
DTSTART:20240331T010000
END:DAYLIGHT
BEGIN:STANDARD
TZOFFSETFROM:+0200
TZOFFSETTO:+0100
TZNAME:CET
DTSTART:20241027T010000
END:STANDARD
END:VTIMEZONE
BEGIN:VEVENT
DTSTART;TZID=Europe/Prague:20231214T190000
DTEND;TZID=Europe/Prague:20231214T203000
DTSTAMP:20260424T135849
CREATED:20231025T160745Z
LAST-MODIFIED:20231112T071809Z
UID:3085-1702580400-1702585800@sbor-smetana.cz
SUMMARY:Koncert Opatovice n/L\, kostel sv. Vavřince - 14.12.2023 v 19 h
DESCRIPTION:Česká mše vánoční „Hej mistře!“ Jakuba Jana Ryby\nTichá noc (Gruber)\, Adeste Fideles\nSPS Smetana Hradec Králové\, sbormistr Jan Jiráček\nSólisté: Jana Lesná /soprán/ 	Markéta Štefaniková / alt/\n	Marek Hergovits /tenor/		Jan Jiráček/bas/\nvarhany: Václav Uhlíř
URL:https://sbor-smetana.cz/udalost/koncert-opatovice-n-l-kostel-sv-ondreje-14-12-2023-v-18-h/
LOCATION:Opatovice nad Labem
CATEGORIES:Koncert
ATTACH;FMTTYPE=image/jpeg:https://sbor-smetana.cz/wp-content/uploads/2023/10/PC143122_b-scaled.jpg
END:VEVENT
END:VCALENDAR