BEGIN:VCALENDAR
VERSION:2.0
PRODID:-//Smetana - ECPv6.15.17//NONSGML v1.0//EN
CALSCALE:GREGORIAN
METHOD:PUBLISH
X-WR-CALNAME:Smetana
X-ORIGINAL-URL:https://sbor-smetana.cz
X-WR-CALDESC:Akce na Smetana
REFRESH-INTERVAL;VALUE=DURATION:PT1H
X-Robots-Tag:noindex
X-PUBLISHED-TTL:PT1H
BEGIN:VTIMEZONE
TZID:Europe/Prague
BEGIN:DAYLIGHT
TZOFFSETFROM:+0100
TZOFFSETTO:+0200
TZNAME:CEST
DTSTART:20220327T010000
END:DAYLIGHT
BEGIN:STANDARD
TZOFFSETFROM:+0200
TZOFFSETTO:+0100
TZNAME:CET
DTSTART:20221030T010000
END:STANDARD
BEGIN:DAYLIGHT
TZOFFSETFROM:+0100
TZOFFSETTO:+0200
TZNAME:CEST
DTSTART:20230326T010000
END:DAYLIGHT
BEGIN:STANDARD
TZOFFSETFROM:+0200
TZOFFSETTO:+0100
TZNAME:CET
DTSTART:20231029T010000
END:STANDARD
BEGIN:DAYLIGHT
TZOFFSETFROM:+0100
TZOFFSETTO:+0200
TZNAME:CEST
DTSTART:20240331T010000
END:DAYLIGHT
BEGIN:STANDARD
TZOFFSETFROM:+0200
TZOFFSETTO:+0100
TZNAME:CET
DTSTART:20241027T010000
END:STANDARD
END:VTIMEZONE
BEGIN:VEVENT
DTSTART;TZID=Europe/Prague:20231222T180000
DTEND;TZID=Europe/Prague:20231222T200000
DTSTAMP:20260424T122956
CREATED:20230808T112033Z
LAST-MODIFIED:20231005T101517Z
UID:2710-1703268000-1703275200@sbor-smetana.cz
SUMMARY:Koncert Přepychy kostel sv. Prokopa - 22.12.2023 v 18 hodin
DESCRIPTION:Česká mše vánoční „Hej mistře!“ Jakuba Jana Ryby\nSPS Smetana Hradec Králové\, sbm. Jan Jiráček\nOrchestr KMČ\, dir. Václav Lepš\na sólisté
URL:https://sbor-smetana.cz/udalost/koncert-prepychy-kostel-22-12-2023-v-18-hodin/
LOCATION:Přepychy kostel
CATEGORIES:Koncert
ATTACH;FMTTYPE=image/jpeg:https://sbor-smetana.cz/wp-content/uploads/2023/08/Prepychy-kostel.jpg
END:VEVENT
END:VCALENDAR