BEGIN:VCALENDAR
VERSION:2.0
PRODID:-//Smetana - ECPv6.15.17//NONSGML v1.0//EN
CALSCALE:GREGORIAN
METHOD:PUBLISH
X-WR-CALNAME:Smetana
X-ORIGINAL-URL:https://sbor-smetana.cz
X-WR-CALDESC:Akce na Smetana
REFRESH-INTERVAL;VALUE=DURATION:PT1H
X-Robots-Tag:noindex
X-PUBLISHED-TTL:PT1H
BEGIN:VTIMEZONE
TZID:Europe/Prague
BEGIN:DAYLIGHT
TZOFFSETFROM:+0100
TZOFFSETTO:+0200
TZNAME:CEST
DTSTART:20220327T010000
END:DAYLIGHT
BEGIN:STANDARD
TZOFFSETFROM:+0200
TZOFFSETTO:+0100
TZNAME:CET
DTSTART:20221030T010000
END:STANDARD
BEGIN:DAYLIGHT
TZOFFSETFROM:+0100
TZOFFSETTO:+0200
TZNAME:CEST
DTSTART:20230326T010000
END:DAYLIGHT
BEGIN:STANDARD
TZOFFSETFROM:+0200
TZOFFSETTO:+0100
TZNAME:CET
DTSTART:20231029T010000
END:STANDARD
BEGIN:DAYLIGHT
TZOFFSETFROM:+0100
TZOFFSETTO:+0200
TZNAME:CEST
DTSTART:20240331T010000
END:DAYLIGHT
BEGIN:STANDARD
TZOFFSETFROM:+0200
TZOFFSETTO:+0100
TZNAME:CET
DTSTART:20241027T010000
END:STANDARD
END:VTIMEZONE
BEGIN:VEVENT
DTSTART;TZID=Europe/Prague:20230707T190000
DTEND;TZID=Europe/Prague:20230707T210000
DTSTAMP:20260424T141509
CREATED:20230627T100038Z
LAST-MODIFIED:20231111T093944Z
UID:2467-1688756400-1688763600@sbor-smetana.cz
SUMMARY:Koncert v chrámu sv. Barbory v Kutné Hoře - 7.7.2023
DESCRIPTION:Náš poslední koncert v první polovině roku 2023\, společně se sborem absolventů univerzity YALE z USA .\nProgram z vystoupení sboru SMETANA:\nVivaldi Gloria\, Young. Alleluja\nJanáček Ty ukvaldský kostelíčku\nDvořák: Šípek\, Kdyby byla kosa\nSmetana Česká píseň\nČerník K Budějicům cesta\nHalma Mikulecká dědina\nHalma Veru si ty šohajíčku\nTučapský Pod dubem\nHaan Missa brevis – Kyrie\, Benedictus\nGjeilo Ubi caritas\, Verdi Nabucco\ntradicionál: An Irish Blessing\nRutter: The Lord Bless You And Keep You\nSmetana Proč bychom se netěšili
URL:https://sbor-smetana.cz/udalost/koncert-v-chramu-sv-barbory-v-kutne-hore-7-7-2023/
LOCATION:Chrám sv.Barbory v KH\, KutnáHora\, Česká republika
CATEGORIES:Koncert
ATTACH;FMTTYPE=image/jpeg:https://sbor-smetana.cz/wp-content/uploads/2023/06/354999786_828673348697045_8480702500597322316_n.jpg
END:VEVENT
END:VCALENDAR