BEGIN:VCALENDAR
VERSION:2.0
PRODID:-//Smetana - ECPv6.15.17//NONSGML v1.0//EN
CALSCALE:GREGORIAN
METHOD:PUBLISH
X-WR-CALNAME:Smetana
X-ORIGINAL-URL:https://sbor-smetana.cz
X-WR-CALDESC:Akce na Smetana
REFRESH-INTERVAL;VALUE=DURATION:PT1H
X-Robots-Tag:noindex
X-PUBLISHED-TTL:PT1H
BEGIN:VTIMEZONE
TZID:Europe/Prague
BEGIN:DAYLIGHT
TZOFFSETFROM:+0100
TZOFFSETTO:+0200
TZNAME:CEST
DTSTART:20220327T010000
END:DAYLIGHT
BEGIN:STANDARD
TZOFFSETFROM:+0200
TZOFFSETTO:+0100
TZNAME:CET
DTSTART:20221030T010000
END:STANDARD
BEGIN:DAYLIGHT
TZOFFSETFROM:+0100
TZOFFSETTO:+0200
TZNAME:CEST
DTSTART:20230326T010000
END:DAYLIGHT
BEGIN:STANDARD
TZOFFSETFROM:+0200
TZOFFSETTO:+0100
TZNAME:CET
DTSTART:20231029T010000
END:STANDARD
BEGIN:DAYLIGHT
TZOFFSETFROM:+0100
TZOFFSETTO:+0200
TZNAME:CEST
DTSTART:20240331T010000
END:DAYLIGHT
BEGIN:STANDARD
TZOFFSETFROM:+0200
TZOFFSETTO:+0100
TZNAME:CET
DTSTART:20241027T010000
END:STANDARD
END:VTIMEZONE
BEGIN:VEVENT
DTSTART;TZID=Europe/Prague:20230617T170000
DTEND;TZID=Europe/Prague:20230617T190000
DTSTAMP:20260424T141134
CREATED:20230510T130509Z
LAST-MODIFIED:20230630T071709Z
UID:181-1687021200-1687028400@sbor-smetana.cz
SUMMARY:Koncert v Náchodě
DESCRIPTION:Sborový koncert.\nÚčinkují:\nSmíšený pěvecký sbor HRON Náchod\nsbormistr Vlastimil Čejp \,klavírní doprovod Klára Bydžovská\nSmíšený pěvecký sbor SMETANA Hradec Králové\nsbormistr Jan Jiráček\, klavírní doprovod Radka Jiráčková\nVstupné 150 Kč před koncertem přímo na místě
URL:https://sbor-smetana.cz/udalost/koncert-v-nachode/
LOCATION:NÁCHOD
CATEGORIES:Koncert
ATTACH;FMTTYPE=image/jpeg:https://sbor-smetana.cz/wp-content/uploads/2023/02/Zamek-Nachod_a.jpg
END:VEVENT
END:VCALENDAR