BEGIN:VCALENDAR
VERSION:2.0
PRODID:-//Smetana - ECPv6.15.17//NONSGML v1.0//EN
CALSCALE:GREGORIAN
METHOD:PUBLISH
X-WR-CALNAME:Smetana
X-ORIGINAL-URL:https://sbor-smetana.cz
X-WR-CALDESC:Akce na Smetana
REFRESH-INTERVAL;VALUE=DURATION:PT1H
X-Robots-Tag:noindex
X-PUBLISHED-TTL:PT1H
BEGIN:VTIMEZONE
TZID:Europe/Prague
BEGIN:DAYLIGHT
TZOFFSETFROM:+0100
TZOFFSETTO:+0200
TZNAME:CEST
DTSTART:20250330T010000
END:DAYLIGHT
BEGIN:STANDARD
TZOFFSETFROM:+0200
TZOFFSETTO:+0100
TZNAME:CET
DTSTART:20251026T010000
END:STANDARD
BEGIN:DAYLIGHT
TZOFFSETFROM:+0100
TZOFFSETTO:+0200
TZNAME:CEST
DTSTART:20260329T010000
END:DAYLIGHT
BEGIN:STANDARD
TZOFFSETFROM:+0200
TZOFFSETTO:+0100
TZNAME:CET
DTSTART:20261025T010000
END:STANDARD
BEGIN:DAYLIGHT
TZOFFSETFROM:+0100
TZOFFSETTO:+0200
TZNAME:CEST
DTSTART:20270328T010000
END:DAYLIGHT
BEGIN:STANDARD
TZOFFSETFROM:+0200
TZOFFSETTO:+0100
TZNAME:CET
DTSTART:20271031T010000
END:STANDARD
END:VTIMEZONE
BEGIN:VEVENT
DTSTART;TZID=Europe/Prague:20260612T180000
DTEND;TZID=Europe/Prague:20260612T193000
DTSTAMP:20260420T104636
CREATED:20260315T083831Z
LAST-MODIFIED:20260315T085658Z
UID:5436-1781287200-1781292600@sbor-smetana.cz
SUMMARY:Koncert v pátek 12.6.2026 v 18 hodin - Muzeum východních Čech Hradec Králové\, Eliščino nábřeží
DESCRIPTION:Jarní koncert\nÚčinkují: SPS Smetana Hradec Králové (sbm. Jan Jiráček)\, klavír Radka Jiráčková\nDívčí sbor Kantiléna Hradec Králové (sbm. Nikola Košťálová)\, klavír Lucie Munzarová\nV programu zazní díla českých a světových autorů.
URL:https://sbor-smetana.cz/udalost/koncert-v-patek12-6-2026-v-18-hodin-muzeum-vychodnich-cech-hradec-kralove-eliscino-nabrezi/
LOCATION:Muzeum východních Čech Hradec Králové\, Eliščino nábřeží\,
CATEGORIES:Koncert
END:VEVENT
END:VCALENDAR