BEGIN:VCALENDAR
VERSION:2.0
PRODID:-//Smetana - ECPv6.15.17//NONSGML v1.0//EN
CALSCALE:GREGORIAN
METHOD:PUBLISH
X-WR-CALNAME:Smetana
X-ORIGINAL-URL:https://sbor-smetana.cz
X-WR-CALDESC:Akce na Smetana
REFRESH-INTERVAL;VALUE=DURATION:PT1H
X-Robots-Tag:noindex
X-PUBLISHED-TTL:PT1H
BEGIN:VTIMEZONE
TZID:Europe/Prague
BEGIN:DAYLIGHT
TZOFFSETFROM:+0100
TZOFFSETTO:+0200
TZNAME:CEST
DTSTART:20230326T010000
END:DAYLIGHT
BEGIN:STANDARD
TZOFFSETFROM:+0200
TZOFFSETTO:+0100
TZNAME:CET
DTSTART:20231029T010000
END:STANDARD
BEGIN:DAYLIGHT
TZOFFSETFROM:+0100
TZOFFSETTO:+0200
TZNAME:CEST
DTSTART:20240331T010000
END:DAYLIGHT
BEGIN:STANDARD
TZOFFSETFROM:+0200
TZOFFSETTO:+0100
TZNAME:CET
DTSTART:20241027T010000
END:STANDARD
BEGIN:DAYLIGHT
TZOFFSETFROM:+0100
TZOFFSETTO:+0200
TZNAME:CEST
DTSTART:20250330T010000
END:DAYLIGHT
BEGIN:STANDARD
TZOFFSETFROM:+0200
TZOFFSETTO:+0100
TZNAME:CET
DTSTART:20251026T010000
END:STANDARD
END:VTIMEZONE
BEGIN:VEVENT
DTSTART;TZID=Europe/Prague:20240518T170000
DTEND;TZID=Europe/Prague:20240518T190000
DTSTAMP:20260424T123835
CREATED:20240103T110549Z
LAST-MODIFIED:20240118T082055Z
UID:3467-1716051600-1716058800@sbor-smetana.cz
SUMMARY:Koncert ve Smiřicích\, Kaple Zjevení Páně - 18.5.2024 v 17 hodin
DESCRIPTION:Koncert k roku české hudby\núčínkují tři sbory:\nHron Náchod\,\nJizeran Semily\,\nSPS Smetana Hradec Králové.
URL:https://sbor-smetana.cz/udalost/koncert-ve-smiricich-kaple-zjeveni-pane-18-5-2024-v-17-hodin/
LOCATION:Smiřice – Kaple Zjevení Páně
CATEGORIES:Koncert
ATTACH;FMTTYPE=image/jpeg:https://sbor-smetana.cz/wp-content/uploads/2024/01/Smirice-zamecka-kaple.jpeg
END:VEVENT
END:VCALENDAR