BEGIN:VCALENDAR
VERSION:2.0
PRODID:-//Smetana - ECPv6.15.17//NONSGML v1.0//EN
CALSCALE:GREGORIAN
METHOD:PUBLISH
X-WR-CALNAME:Smetana
X-ORIGINAL-URL:https://sbor-smetana.cz
X-WR-CALDESC:Akce na Smetana
REFRESH-INTERVAL;VALUE=DURATION:PT1H
X-Robots-Tag:noindex
X-PUBLISHED-TTL:PT1H
BEGIN:VTIMEZONE
TZID:Europe/Prague
BEGIN:DAYLIGHT
TZOFFSETFROM:+0100
TZOFFSETTO:+0200
TZNAME:CEST
DTSTART:20250330T010000
END:DAYLIGHT
BEGIN:STANDARD
TZOFFSETFROM:+0200
TZOFFSETTO:+0100
TZNAME:CET
DTSTART:20251026T010000
END:STANDARD
BEGIN:DAYLIGHT
TZOFFSETFROM:+0100
TZOFFSETTO:+0200
TZNAME:CEST
DTSTART:20260329T010000
END:DAYLIGHT
BEGIN:STANDARD
TZOFFSETFROM:+0200
TZOFFSETTO:+0100
TZNAME:CET
DTSTART:20261025T010000
END:STANDARD
BEGIN:DAYLIGHT
TZOFFSETFROM:+0100
TZOFFSETTO:+0200
TZNAME:CEST
DTSTART:20270328T010000
END:DAYLIGHT
BEGIN:STANDARD
TZOFFSETFROM:+0200
TZOFFSETTO:+0100
TZNAME:CET
DTSTART:20271031T010000
END:STANDARD
END:VTIMEZONE
BEGIN:VEVENT
DTSTART;TZID=Europe/Prague:20261014T190000
DTEND;TZID=Europe/Prague:20261014T203000
DTSTAMP:20260424T105614
CREATED:20260221T092018Z
LAST-MODIFIED:20260221T094219Z
UID:5425-1792004400-1792009800@sbor-smetana.cz
SUMMARY:Koncert ve středu 14.10.2026\, 19:00\, Městská hudební síň - Hradec Králové
DESCRIPTION:Podzimní koncert SPS Smetana Hradec Králové\n\nÚčinkují: \nSmíšený pěvecký sbor Smetana Hradec Králové (sbm. Jan Jiráček)\nsoprán – Jana Lesná\nvarhany – František Novák\nV programu zazní díla mistrů vážné hudby\, zvláště Wolfganga Amadea Mozarta k příležitosti jeho výročí 270 let od narození.
URL:https://sbor-smetana.cz/udalost/koncert-ve-stredu-14-10-2026-1900-mestska-hudebni-sin-hradec-kralove/
LOCATION:MěHS v Hradci Králové
CATEGORIES:Koncert
END:VEVENT
END:VCALENDAR