BEGIN:VCALENDAR
VERSION:2.0
PRODID:-//Smetana - ECPv6.15.17//NONSGML v1.0//EN
CALSCALE:GREGORIAN
METHOD:PUBLISH
X-WR-CALNAME:Smetana
X-ORIGINAL-URL:https://sbor-smetana.cz
X-WR-CALDESC:Akce na Smetana
REFRESH-INTERVAL;VALUE=DURATION:PT1H
X-Robots-Tag:noindex
X-PUBLISHED-TTL:PT1H
BEGIN:VTIMEZONE
TZID:Europe/Prague
BEGIN:DAYLIGHT
TZOFFSETFROM:+0100
TZOFFSETTO:+0200
TZNAME:CEST
DTSTART:20220327T010000
END:DAYLIGHT
BEGIN:STANDARD
TZOFFSETFROM:+0200
TZOFFSETTO:+0100
TZNAME:CET
DTSTART:20221030T010000
END:STANDARD
BEGIN:DAYLIGHT
TZOFFSETFROM:+0100
TZOFFSETTO:+0200
TZNAME:CEST
DTSTART:20230326T010000
END:DAYLIGHT
BEGIN:STANDARD
TZOFFSETFROM:+0200
TZOFFSETTO:+0100
TZNAME:CET
DTSTART:20231029T010000
END:STANDARD
BEGIN:DAYLIGHT
TZOFFSETFROM:+0100
TZOFFSETTO:+0200
TZNAME:CEST
DTSTART:20240331T010000
END:DAYLIGHT
BEGIN:STANDARD
TZOFFSETFROM:+0200
TZOFFSETTO:+0100
TZNAME:CET
DTSTART:20241027T010000
END:STANDARD
END:VTIMEZONE
BEGIN:VEVENT
DTSTART;TZID=Europe/Prague:20231029T103000
DTEND;TZID=Europe/Prague:20231029T120000
DTSTAMP:20260424T155431
CREATED:20231031T160107Z
LAST-MODIFIED:20231105T082741Z
UID:3217-1698575400-1698580800@sbor-smetana.cz
SUMMARY:Koncert ve WEST PALM BEACH na Floridě - 29.10.2023
DESCRIPTION:Vystoupení sboru se konalo v místním kostele Lakeside Presbyterian Church jako součást bohoslužby.\nProgram byl sestaven ze skladeb připravených před odjezdem na zájezd do USA.\nKlavírní doprovod obstarala Radka Jiráčková.
URL:https://sbor-smetana.cz/udalost/koncert-ve-west-palm-beach-29-10-2023/
LOCATION:West Palm Beach\, Florida
CATEGORIES:Koncert
ATTACH;FMTTYPE=image/jpeg:https://sbor-smetana.cz/wp-content/uploads/2023/10/Smetana-29.10.2023_03.jpg
END:VEVENT
END:VCALENDAR