BEGIN:VCALENDAR
VERSION:2.0
PRODID:-//Smetana - ECPv6.15.17//NONSGML v1.0//EN
CALSCALE:GREGORIAN
METHOD:PUBLISH
X-WR-CALNAME:Smetana
X-ORIGINAL-URL:https://sbor-smetana.cz
X-WR-CALDESC:Akce na Smetana
REFRESH-INTERVAL;VALUE=DURATION:PT1H
X-Robots-Tag:noindex
X-PUBLISHED-TTL:PT1H
BEGIN:VTIMEZONE
TZID:Europe/Prague
BEGIN:DAYLIGHT
TZOFFSETFROM:+0100
TZOFFSETTO:+0200
TZNAME:CEST
DTSTART:20210328T010000
END:DAYLIGHT
BEGIN:STANDARD
TZOFFSETFROM:+0200
TZOFFSETTO:+0100
TZNAME:CET
DTSTART:20211031T010000
END:STANDARD
BEGIN:DAYLIGHT
TZOFFSETFROM:+0100
TZOFFSETTO:+0200
TZNAME:CEST
DTSTART:20220327T010000
END:DAYLIGHT
BEGIN:STANDARD
TZOFFSETFROM:+0200
TZOFFSETTO:+0100
TZNAME:CET
DTSTART:20221030T010000
END:STANDARD
BEGIN:DAYLIGHT
TZOFFSETFROM:+0100
TZOFFSETTO:+0200
TZNAME:CEST
DTSTART:20230326T010000
END:DAYLIGHT
BEGIN:STANDARD
TZOFFSETFROM:+0200
TZOFFSETTO:+0100
TZNAME:CET
DTSTART:20231029T010000
END:STANDARD
END:VTIMEZONE
BEGIN:VEVENT
DTSTART;TZID=Europe/Prague:20220526T190000
DTEND;TZID=Europe/Prague:20220526T210000
DTSTAMP:20260424T123122
CREATED:20230204T071547Z
LAST-MODIFIED:20230207T084004Z
UID:333-1653591600-1653598800@sbor-smetana.cz
SUMMARY:Kostel Nanebevzetí Panny Marie Hradec Králové
DESCRIPTION:První koncert ke 100. výročí založení sboru Smetana. \nÚčinkuje: Smíšený pěvecký sbor SMETANA\, sbormistr Jan Jiráček.\nSymfonický orchestr a sbor Konzervatoře Pardubice\,\ndirigent Ondřej Mejsnar.\nSólisté: Jana Lesná\, Markéta Štefaniková\, Aleš Nehněvajsa\, Jan Jiráček.\nProgram : Václav Jan Tomášek: Missa solemnis Op.81\,\ndále skladby Arcadelta\, Pitoniho\, Younga\, Gjeila.
URL:https://sbor-smetana.cz/udalost/kostel-nanebevzeti-panny-marie-hradec-kralove/
LOCATION:Kostel Nanebevzetí Panny Marie Hradec Králové
CATEGORIES:Koncert
ATTACH;FMTTYPE=image/jpeg:https://sbor-smetana.cz/wp-content/uploads/2023/02/HK-Kostel-nanebevzeti-panny-Marie.jpeg
END:VEVENT
END:VCALENDAR