BEGIN:VCALENDAR
VERSION:2.0
PRODID:-//Smetana - ECPv6.15.17//NONSGML v1.0//EN
CALSCALE:GREGORIAN
METHOD:PUBLISH
X-WR-CALNAME:Smetana
X-ORIGINAL-URL:https://sbor-smetana.cz
X-WR-CALDESC:Akce na Smetana
REFRESH-INTERVAL;VALUE=DURATION:PT1H
X-Robots-Tag:noindex
X-PUBLISHED-TTL:PT1H
BEGIN:VTIMEZONE
TZID:Europe/Prague
BEGIN:DAYLIGHT
TZOFFSETFROM:+0100
TZOFFSETTO:+0200
TZNAME:CEST
DTSTART:20230326T010000
END:DAYLIGHT
BEGIN:STANDARD
TZOFFSETFROM:+0200
TZOFFSETTO:+0100
TZNAME:CET
DTSTART:20231029T010000
END:STANDARD
BEGIN:DAYLIGHT
TZOFFSETFROM:+0100
TZOFFSETTO:+0200
TZNAME:CEST
DTSTART:20240331T010000
END:DAYLIGHT
BEGIN:STANDARD
TZOFFSETFROM:+0200
TZOFFSETTO:+0100
TZNAME:CET
DTSTART:20241027T010000
END:STANDARD
BEGIN:DAYLIGHT
TZOFFSETFROM:+0100
TZOFFSETTO:+0200
TZNAME:CEST
DTSTART:20250330T010000
END:DAYLIGHT
BEGIN:STANDARD
TZOFFSETFROM:+0200
TZOFFSETTO:+0100
TZNAME:CET
DTSTART:20251026T010000
END:STANDARD
END:VTIMEZONE
BEGIN:VEVENT
DTSTART;TZID=Europe/Prague:20241210T183000
DTEND;TZID=Europe/Prague:20241210T200000
DTSTAMP:20260424T141920
CREATED:20240718T064714Z
LAST-MODIFIED:20241203T102217Z
UID:4278-1733855400-1733860800@sbor-smetana.cz
SUMMARY:Nový Hradec Králové (kostel sv. Antonína) - úterý 10.12.2024 v 18:30
DESCRIPTION:Na programu bude Česká mše vánoční Jakuba Jana Ryby.\nVystoupí Litomyšlský symfonický orchestr (dir. D. Lukáš)\, SPS Smetana Hradec Králové (sbm. Jan Jiráček)\nSólisté: soprán – Jana Lesná\, alt – Markéta Štefaniková\, tenor – Milan Motl\, bas – Jan Jiráček
URL:https://sbor-smetana.cz/udalost/novy-hradec-kralove-kostel-sv-antonina-utery-10-12-2024-v-1830/
LOCATION:Nový Hradec Králové\, kostel sv. Antonína
CATEGORIES:Koncert
ATTACH;FMTTYPE=image/jpeg:https://sbor-smetana.cz/wp-content/uploads/2024/07/NHK-sv-Antonin.jpg
END:VEVENT
END:VCALENDAR