BEGIN:VCALENDAR
VERSION:2.0
PRODID:-//Smetana - ECPv6.15.17//NONSGML v1.0//EN
CALSCALE:GREGORIAN
METHOD:PUBLISH
X-WR-CALNAME:Smetana
X-ORIGINAL-URL:https://sbor-smetana.cz
X-WR-CALDESC:Akce na Smetana
REFRESH-INTERVAL;VALUE=DURATION:PT1H
X-Robots-Tag:noindex
X-PUBLISHED-TTL:PT1H
BEGIN:VTIMEZONE
TZID:Europe/Prague
BEGIN:DAYLIGHT
TZOFFSETFROM:+0100
TZOFFSETTO:+0200
TZNAME:CEST
DTSTART:20240331T010000
END:DAYLIGHT
BEGIN:STANDARD
TZOFFSETFROM:+0200
TZOFFSETTO:+0100
TZNAME:CET
DTSTART:20241027T010000
END:STANDARD
BEGIN:DAYLIGHT
TZOFFSETFROM:+0100
TZOFFSETTO:+0200
TZNAME:CEST
DTSTART:20250330T010000
END:DAYLIGHT
BEGIN:STANDARD
TZOFFSETFROM:+0200
TZOFFSETTO:+0100
TZNAME:CET
DTSTART:20251026T010000
END:STANDARD
BEGIN:DAYLIGHT
TZOFFSETFROM:+0100
TZOFFSETTO:+0200
TZNAME:CEST
DTSTART:20260329T010000
END:DAYLIGHT
BEGIN:STANDARD
TZOFFSETFROM:+0200
TZOFFSETTO:+0100
TZNAME:CET
DTSTART:20261025T010000
END:STANDARD
END:VTIMEZONE
BEGIN:VEVENT
DTSTART;TZID=Europe/Prague:20250523T190000
DTEND;TZID=Europe/Prague:20250523T210000
DTSTAMP:20260424T105506
CREATED:20250321T075155Z
LAST-MODIFIED:20250323T075954Z
UID:4945-1748026800-1748034000@sbor-smetana.cz
SUMMARY:Sborový koncert k festivalu pěveckých sborů "Festiválek 2025"
DESCRIPTION:Datum koncertu: pátek 23.5.2025 od 19 hodin \nMísto konání: Městská hudební síň\, Hradec Králové  \nÚčinkují:  \nSmíšený pěvecký sbor Smetana Hradec Králové\, sbm. Jan Jiráček  \nŽenský pěvecký sbor Cantus Feminae Nechanice\, sbm. Petr Semerák  \nMužský pěvecký sbor Pochodnia Czestochowia (PL) \nV programu zazní díla českých a světových autorů.
URL:https://sbor-smetana.cz/udalost/sborovy-koncert-k-festivalu-peveckych-sboru-festivalek-2025/
LOCATION:MěHS v Hradci Králové
CATEGORIES:Koncert
ATTACH;FMTTYPE=image/jpeg:https://sbor-smetana.cz/wp-content/uploads/2025/03/Plakat_Festivalek_2025_HK.jpg
END:VEVENT
END:VCALENDAR