BEGIN:VCALENDAR
VERSION:2.0
PRODID:-//Smetana - ECPv6.15.17//NONSGML v1.0//EN
CALSCALE:GREGORIAN
METHOD:PUBLISH
X-WR-CALNAME:Smetana
X-ORIGINAL-URL:https://sbor-smetana.cz
X-WR-CALDESC:Akce na Smetana
REFRESH-INTERVAL;VALUE=DURATION:PT1H
X-Robots-Tag:noindex
X-PUBLISHED-TTL:PT1H
BEGIN:VTIMEZONE
TZID:Europe/Prague
BEGIN:DAYLIGHT
TZOFFSETFROM:+0100
TZOFFSETTO:+0200
TZNAME:CEST
DTSTART:20240331T010000
END:DAYLIGHT
BEGIN:STANDARD
TZOFFSETFROM:+0200
TZOFFSETTO:+0100
TZNAME:CET
DTSTART:20241027T010000
END:STANDARD
BEGIN:DAYLIGHT
TZOFFSETFROM:+0100
TZOFFSETTO:+0200
TZNAME:CEST
DTSTART:20250330T010000
END:DAYLIGHT
BEGIN:STANDARD
TZOFFSETFROM:+0200
TZOFFSETTO:+0100
TZNAME:CET
DTSTART:20251026T010000
END:STANDARD
BEGIN:DAYLIGHT
TZOFFSETFROM:+0100
TZOFFSETTO:+0200
TZNAME:CEST
DTSTART:20260329T010000
END:DAYLIGHT
BEGIN:STANDARD
TZOFFSETFROM:+0200
TZOFFSETTO:+0100
TZNAME:CET
DTSTART:20261025T010000
END:STANDARD
END:VTIMEZONE
BEGIN:VEVENT
DTSTART;TZID=Europe/Prague:20250515T190000
DTEND;TZID=Europe/Prague:20250515T213000
DTSTAMP:20260424T105146
CREATED:20250205T080039Z
LAST-MODIFIED:20250416T111604Z
UID:4921-1747335600-1747344600@sbor-smetana.cz
SUMMARY:Slavnostní koncert - MěHS HK 15.5.2025 v 19 hodin
DESCRIPTION:Datum konání: čtvrtek 15.května 2025 v 19 hodin Městská hudební síň \nSlavnostní koncert k 800 letům založení města Hradce Králové \nPořádají : SPS Smetana Hradec Králové\, Smíšený pěvecký sbor Jitro \nÚčinkují: SPS Smetana\, sbormistr Jan Jiráček\, klavír Radka Jiráčková \n                Smíšený pěvecký sbor Jitro\, sbormistr Václav Metoděj Uhlíř
URL:https://sbor-smetana.cz/udalost/slavnostni-koncert-15-5-2025/
LOCATION:MěHS v Hradci Králové
CATEGORIES:Koncert
ATTACH;FMTTYPE=image/jpeg:https://sbor-smetana.cz/wp-content/uploads/2025/02/Kpncert-15.5.jpg
END:VEVENT
END:VCALENDAR