BEGIN:VCALENDAR
VERSION:2.0
PRODID:-//Smetana - ECPv6.15.17//NONSGML v1.0//EN
CALSCALE:GREGORIAN
METHOD:PUBLISH
X-WR-CALNAME:Smetana
X-ORIGINAL-URL:https://sbor-smetana.cz
X-WR-CALDESC:Akce na Smetana
REFRESH-INTERVAL;VALUE=DURATION:PT1H
X-Robots-Tag:noindex
X-PUBLISHED-TTL:PT1H
BEGIN:VTIMEZONE
TZID:Europe/Prague
BEGIN:DAYLIGHT
TZOFFSETFROM:+0100
TZOFFSETTO:+0200
TZNAME:CEST
DTSTART:20240331T010000
END:DAYLIGHT
BEGIN:STANDARD
TZOFFSETFROM:+0200
TZOFFSETTO:+0100
TZNAME:CET
DTSTART:20241027T010000
END:STANDARD
BEGIN:DAYLIGHT
TZOFFSETFROM:+0100
TZOFFSETTO:+0200
TZNAME:CEST
DTSTART:20250330T010000
END:DAYLIGHT
BEGIN:STANDARD
TZOFFSETFROM:+0200
TZOFFSETTO:+0100
TZNAME:CET
DTSTART:20251026T010000
END:STANDARD
BEGIN:DAYLIGHT
TZOFFSETFROM:+0100
TZOFFSETTO:+0200
TZNAME:CEST
DTSTART:20260329T010000
END:DAYLIGHT
BEGIN:STANDARD
TZOFFSETFROM:+0200
TZOFFSETTO:+0100
TZNAME:CET
DTSTART:20261025T010000
END:STANDARD
END:VTIMEZONE
BEGIN:VEVENT
DTSTART;TZID=Europe/Prague:20250607T180000
DTEND;TZID=Europe/Prague:20250607T200000
DTSTAMP:20260424T105506
CREATED:20250315T104957Z
LAST-MODIFIED:20250416T112124Z
UID:4960-1749319200-1749326400@sbor-smetana.cz
SUMMARY:Slavnostní koncert k 800-tému výročí založení města Hradce Králové
DESCRIPTION:Datum konání: sobota 7.6.2025 v 18 hodin\nMísto konání: kostel sv. Ondřeje\, Třebechovice pod Orebem\nPořádá: Středisko místní kultury\nÚčinkují: SPS Smetana Hradec Králové\, sbm. Jan Jiráček\, klavír Radka Jiráčková\nSPS Jitro Hradec Králové\, sbm. Václav Metoděj Uhlíř
URL:https://sbor-smetana.cz/udalost/slavnostni-koncert-k-800-ti-letum-zalozeni-mesta-hradce-kralove/
LOCATION:Kostel sv. Ondřeje\, Třebechovice pod Orebem
CATEGORIES:Koncert
ATTACH;FMTTYPE=image/jpeg:https://sbor-smetana.cz/wp-content/uploads/2025/03/LETNICE-7.6.2025-scaled.jpg
END:VEVENT
END:VCALENDAR