BEGIN:VCALENDAR
VERSION:2.0
PRODID:-//Smetana - ECPv6.15.17//NONSGML v1.0//EN
CALSCALE:GREGORIAN
METHOD:PUBLISH
X-WR-CALNAME:Smetana
X-ORIGINAL-URL:https://sbor-smetana.cz
X-WR-CALDESC:Akce na Smetana
REFRESH-INTERVAL;VALUE=DURATION:PT1H
X-Robots-Tag:noindex
X-PUBLISHED-TTL:PT1H
BEGIN:VTIMEZONE
TZID:Europe/Prague
BEGIN:DAYLIGHT
TZOFFSETFROM:+0100
TZOFFSETTO:+0200
TZNAME:CEST
DTSTART:20230326T010000
END:DAYLIGHT
BEGIN:STANDARD
TZOFFSETFROM:+0200
TZOFFSETTO:+0100
TZNAME:CET
DTSTART:20231029T010000
END:STANDARD
BEGIN:DAYLIGHT
TZOFFSETFROM:+0100
TZOFFSETTO:+0200
TZNAME:CEST
DTSTART:20240331T010000
END:DAYLIGHT
BEGIN:STANDARD
TZOFFSETFROM:+0200
TZOFFSETTO:+0100
TZNAME:CET
DTSTART:20241027T010000
END:STANDARD
BEGIN:DAYLIGHT
TZOFFSETFROM:+0100
TZOFFSETTO:+0200
TZNAME:CEST
DTSTART:20250330T010000
END:DAYLIGHT
BEGIN:STANDARD
TZOFFSETFROM:+0200
TZOFFSETTO:+0100
TZNAME:CET
DTSTART:20251026T010000
END:STANDARD
END:VTIMEZONE
BEGIN:VEVENT
DTSTART;TZID=Europe/Prague:20241218T190000
DTEND;TZID=Europe/Prague:20241218T203000
DTSTAMP:20260424T123122
CREATED:20240718T120357Z
LAST-MODIFIED:20241104T121444Z
UID:4284-1734548400-1734553800@sbor-smetana.cz
SUMMARY:Smiřice\, Kaple Zjevení Páně - středa 18.12.2024 v 19 hodin
DESCRIPTION:Vystoupí SPS Smetana Hradec Králové\nSólisté: soprán – Jana Lesná\, alt – Markéta Štefaniková\, tenor – Milan Motl\, bas – Michael Šust / Jan Jiráček\,\nvarhany – Václav Uhlíř
URL:https://sbor-smetana.cz/udalost/smirice-kaple-zjeveni-pane-streda-18-12-2024-v-19-hodin/
LOCATION:Smiřice – Kaple Zjevení Páně
CATEGORIES:Koncert
ATTACH;FMTTYPE=image/jpeg:https://sbor-smetana.cz/wp-content/uploads/2024/07/Vanocni_koncert_Smetana_2024.jpg
END:VEVENT
END:VCALENDAR